Workbook
Name _Hlk37864212: 'Aprobación Riesgo Mínimo'!#REF!
Name _Hlk37864212: 'Aprobación RMM'!#REF!
Name _Hlk37864212: 'Carta aprobación de enmiendas'!#REF!
Name _Hlk37864212: 'Carta de aprobación Excención'!#REF!
Name _Hlk37864212: 'Carta Renovación de Aprobación'!#REF!
Name _Hlk37864212: 'Compromiso de confidencialidad'!#REF!
Name _Hlk37864212: 'Conflicto Interés Evaluadores'!#REF!
Name _Hlk37864212: 'Datos de Investigación'!#REF!
Name _Hlk37864212: 'Declaración Conflicto Interés'!#REF!
Name _Hlk37864212: 'Declaración de Interés Inst SR'!#REF!
Name _Hlk37864212: 'Declaración de Interés Inst.'!#REF!
Name _Hlk37864212: 'Declaración de Resp. (O&I)'!#REF!
Name _Hlk37864212: 'Declaración de Responsabilidad'!#REF!
Name _Hlk37864212: Evaluación!#REF!
Name _Hlk37864212: 'Evaluación de Enmiendas'!#REF!
Name _Hlk37864212: 'Formato resp. a observaciones'!#REF!
Name _Hlk37864212: 'Hoja de vida'!#REF!
Name _Hlk37864212: 'Hoja de vida.'!#REF!
Name _Hlk37864212: Instrucciones!#REF!
Name _Hlk37864212: 'Instrumentos de la invest.'!#REF!
Name _Hlk37864212: 'Instrumentos de la invest. SR'!#REF!
Name _Hlk37864212: 'Lista de Verificación Inv. Int.'!#REF!
Name _Hlk37864212: 'Lista de Verificación Inv. Obs'!#REF!
Name _Hlk37864212: 'Lista de Verificación SR'!#REF!
Name _Hlk37864212: 'Mod. Justificación de enmiendas'!#REF!
Name _Hlk37864212: 'No aplicación Consent.Infor(IO)'!#REF!
Name _Hlk37864212: 'No aplicación Consent.Informado'!#REF!
Name _Hlk37864212: 'Notificación Recepción de Docs.'!#REF!
Name _Hlk37864212: Protocolo!$B$7
Name _Hlk37864212: 'Seguimiento (Informe Avance)'!#REF!
Name _Hlk37864212: 'Seguimiento (Informe Final)'!#REF!
Name _Hlk37864212: 'Seguimiento (Informe Inicial)'!#REF!
Name _Hlk37864212: 'Solicitud de Evaluación'!#REF!
Name _Hlk37864212: 'Solicitud de Excención'!#REF!
Name _Hlk37864212: 'Solicitud Evaluación Enmiendas'!#REF!
Name _Hlk37864212: 'Solicitud Renovación de APROB.'!#REF!

Sheet Instrucciones
A1: COMITÉ DE ETICA DE INVESTIGACIÓN EN SERES HUMANOS (CEISH-USFQ)
B3: ACUERDO N° 00005 - 2022 REGLAMENTO PARA LA APROBACIÓN Y SEGUIMIENTO DE COMITÉS DE ÉTICA DE INVESTIGACIÓN EN SERES HUMANOS (CEISH)
B5: EN CASO DE QUERER REVISAR EL ACUERDO DAR CLICK EN ESTE LINK
A7: Introducción para completar formularios.
A8: Instrucciones
A9: 1. Lee atentamente las instrucciones de cada hoja del archivo.
A10: 2. ES OBLIGATORIO Utilizar el botón "PASAR AL SIGUIENTE DOCUMENTO" para navegar a través de los distintos formularios, éste te guiará únicamente por los documentos que necesitas llenar según el tipo de investigación al cual pertenezca tu proyecto.
A13: 3. Imprime los documentos en pdf, fírmalos y envíalos al correo ceishusfq@usfq.edu.ec junto con este excel.
A14: 4. Mantén los campos y formatos de los formularios. Revisa que en los pdf salga todo el texto
A16: Generalidades
A17: 1. Todos los documentos que se envíen al CEISH-USFQ, en todas sus versiones, deben contener: • Firmas y fechas • El código CEISH se asignará a partir de la versión 2 (dos) del documento. • Con cada versión deberá actualizarse la fecha del documento. 2. Guardar el documento como: Ejemplo de nombre de archivo: Protocolo_VE01_24ene2024 (NOMBRE, VERSIÓN, FECHA).
F24: =IF(E24="",HYPERLINK("#"&"'Datos de Investigación'!B1","Pasar al siguiente documento"),"Llenar campos en gris") -> Pasar al siguiente documento

Sheet Datos de Investigación
B1: Recopilación de datos personales y de la Investigación para completar formularios.
B2: Completa los campos en color gris para llenar de manera automática parte de los datos en los documentos requeridos para presentar su investigación. Una vez completo, dar click en "Pasar al siguiente documento" para continuar con el proceso.
B5: VERSIÓN
B6: FECHA | C6: =TODAY() -> 45699
B7: CÓDIGO DE LA INVESTIGACIÓN
B8: NOMBRES Y APELLIDOS COMPLETOS (Investigador Principal)
B9: ROL DENTRO DE LA INVESTIGACIÓN | C9: Investigador Principal
B10: NÚMERO DE DOCUMENTO DE IDENTIDAD (Investigador Principal)
B11: TELÉFONO (Investigador Principal)
B12: DIRECCIÓN (Investigador Principal)
B13: CORREO (Investigador Principal)
B14: INSTITUCIÓN
B15: FACULTAD
B16: CÓDIGO HUBI (Este campo aplica solo para investigadores y docentes USFQ)
B17: TÍTULO DE LA INVESTIGACIÓN (Incluir localidad y año)
B18: RAZONES DE INTERÉS INSTITUCIONAL DE LA INVESTIGACIÓN (descripción corta) (si aplica)
B19: PATROCINADOR (Si aplica)
B20: ESTABLECIMIENTO DE SALUD, INSTITUCIÓN O DISTRITO DONDE SE REALIZARÁ LA INVESTIGACIÓN
B21: NOMBRE Y APELLIDO DE LA AUTORIDAD DE LA INSTITUCIÓN DONDE SE REALIZARÁ LA INVESTIGACIÓN (si aplica)
... B27: REGRESAR
B28: =IF(OR(C6="",ISBLANK(C6),C5="",ISBLANK(C5),C8="",ISBLANK(C8),C9="",ISBLANK(C9),C10="",ISBLANK(C10),C11="",ISBLANK(C11),C13="",ISBLANK(C13),C14="",ISBLANK(C14),C12="",ISBLANK(C12)),"Formulario incompleto","") -> Formulario incompleto
B29: =IF(B28="",HYPERLINK("#"&"'Formulario de clasificación'!B1","Pasar al siguiente documento"),"Llenar campos en gris") -> Llenar campos en gris

Sheet Formulario de clasificación
B1: Instrucciones: Completa los campos en gris con una "X" dentro de cada casillero para identificar el nivel de riesgo de tu investigación, recuerda que TODAS las preguntas deben tener al menos una selección de SI o NO. Al identificarse un nivel de riesgo, la tablas de riesgos menores ya no aplican. Cuando se hayan contestado todas las preguntas requeridas se mostrará el resultado de tu investigación al final del formulario. Recuerda revisar que toda la información ingresada sea correcta y al final firmar la Declaración de Responsabilidad. OBLIGATORIO Utilizar el botón "PASAR AL SIGUIENTE DOCUMENTO" para navegar a través de los distintos formularios, éste le guiará únicamente por los que necesita llenar según el tipo de investigación a la cual pertenezca su proyecto.
H2: ='Datos de Investigación'!$C$5 -> 0
H3: =""&'Datos de Investigación'!$C$7&""
F4: ='Datos de Investigación'!$C$6 -> 45699
B5: Formulario de Clasificación de Riesgo de Investigaciones
B6: Este formulario cumple con lo dispuesto en el "Reglamento Sustitutivo del Reglamento para la Aprobación y Seguimiento de Comités de Ética de Investigación en Seres Humanos (CEISH) y Comités de Ética Asistenciales para la Salud (CEAS)" expedido mediante Acuerdo Ministerial Nro. 005 de 02 de agosto de 2022, para la estratificación de riesgos de investigaciones. Por tal motivo, este formato no podrá ser modificado.
B8: INVESTIGACIONES CON RIESGO MAYOR AL MÍNIMO | F8: SI | G8: NO | I8: CONTROL
B9: 1 | C9: Ensayos clínicos con medicamentos, vacunas, dispositivos médicos, innovación quirúrgica, productos biológicos o productos naturales procesados de uso medicinal, sujetos a registro sanitario. | H9: =IF(SUM($I$9:$I$21)=13,IF(AND(SUM($I$9:$I$21)=13,COUNTIF($F$9:$F$21,"X")>0),"Ok, completo. La investigación corresponde a este nivel de riesgo.","Ok, completo. No aplica este riesgo"),"Alerta, hay preguntas sin contestar o hay más de una selección para una pregunta. Revise la información en gris") -> Alerta, hay preguntas sin contestar o hay más de una selección para una pregunta. Revise la información en gris | I9: =IF(COUNTIF($F9:$G9,"X")=1,1,0) -> 0 | J9: =IF(COUNTIF(F9,"X")=1,1,0) -> 0
B10: 2 | C10: Estudios de farmacología de Fase I a III. | I10: =IF(COUNTIF($F10:$G10,"X")=1,1,0) -> 0 | J10: =IF(COUNTIF(F10,"X")=1,1,0) -> 0
B11: 3 | C11: Investigaciones con recopilación de información privada (historias clínicas), identificativa y/o sensible. | I11: =IF(COUNTIF($F11:$G11,"X")=1,1,0) -> 0 | J11: =IF(COUNTIF(F11,"X")=1,1,0) -> 0 | K11: SI(CONTAR.SI(F5:$G$17;"X")=13;"Ok, completo";"Alerta, hay preguntas sin contestar")
B12: 4 | C12: Investigaciones con uso de muestras biológicas humanas identificables. | I12: =IF(COUNTIF($F12:$G12,"X")=1,1,0) -> 0 | J12: =IF(COUNTIF(F12,"X")=1,1,0) -> 0
B13: 5 | C13: Investigaciones con participación de población vulnerable o en condición de vulnerabilidad. | I13: =IF(COUNTIF($F13:$G13,"X")=1,1,0) -> 0 | J13: =IF(COUNTIF(F13,"X")=1,1,0) -> 0
B14: 6 | C14: Estudios experimentales con nuevos dispositivos, nuevos métodos diagnósticos invasivos, preventivos, de rehabilitación o nuevos procedimientos quirúrgicos. | I14: =IF(COUNTIF($F14:$G14,"X")=1,1,0) -> 0 | J14: =IF(COUNTIF(F14,"X")=1,1,0) -> 0
B15: 7 | C15: Investigaciones con fármacos con margen de seguridad estrecho. | I15: =IF(COUNTIF($F15:$G15,"X")=1,1,0) -> 0 | J15: =IF(COUNTIF(F15,"X")=1,1,0) -> 0
B16: 8 | C16: Investigaciones psicológicas que implican manipulación de la conducta. | I16: =IF(COUNTIF($F16:$G16,"X")=1,1,0) -> 0 | J16: =IF(COUNTIF(F16,"X")=1,1,0) -> 0
B17: 9 | C17: Investigaciones de intervención social. | I17: =IF(COUNTIF($F17:$G17,"X")=1,1,0) -> 0 | J17: =IF(COUNTIF(F17,"X")=1,1,0) -> 0
B18: 10 | C18: Investigaciones con uso de procedimientos invasivos (ej. Amniocentesis, punción lumbar, cateterismo, entre otros) por fuera de la indicación y frecuencia de la práctica estándar. | I18: =IF(COUNTIF($F18:$G18,"X")=1,1,0) -> 0 | J18: =IF(COUNTIF(F18,"X")=1,1,0) -> 0
B19: 11 | C19: Investigaciones que requieren del abandono o retiro de la medicación habitual. | I19: =IF(COUNTIF($F19:$G19,"X")=1,1,0) -> 0 | J19: =IF(COUNTIF(F19,"X")=1,1,0) -> 0
B20: 12 | C20: Investigaciones en situación de emergencias sanitarias. | I20: =IF(COUNTIF($F20:$G20,"X")=1,1,0) -> 0 | J20: =IF(COUNTIF(F20,"X")=1,1,0) -> 0
B21: 13 | C21: Investigaciones que se realicen por primera vez en seres humanos. | I21: =IF(COUNTIF($F21:$G21,"X")=1,1,0) -> 0 | J21: =IF(COUNTIF(F21,"X")=1,1,0) -> 0
B23: INVESTIGACIONES DE RIESGO MÍNIMO | F23: SI | G23: NO | I23: CONTROL
B24: 1 | C24: Investigación con recopilación de información identificativa de seres humanos. | H24: =IF(COUNTIF($F$9:$G$21,"X")<>13,"Primero se debe completar la tabla anterior",IF(AND(SUM($I$24:$I$32)=9,COUNTIF($F$24:$F$32,"X")>0),"OK, completo. La investigación corresponde a este nivel de riesgo.",IF(COUNTIF($F$24:$G$32,"X")=9,"Ok, completo. No aplica este riesgo.",IF(COUNTIF($F$9:$F$21,"X")>0,"No aplica","Alerta, hay preguntas sin contestar o hay más de una selección para una pregunta. Revise la información en gris")))) -> Primero se debe completar la tabla anterior | I24: =IF(COUNTIF($F24:$G24,"X")=1,1,0) -> 0 | J24: =IF(COUNTIF(F24,"X")=1,1,0) -> 0
B25: 2 | C25: Investigación con recopilación de datos de grabaciones de voz, video o de imágenes. | I25: =IF(COUNTIF($F25:$G25,"X")=1,1,0) -> 0 | J25: =IF(COUNTIF(F25,"X")=1,1,0) -> 0 | K25: SI(CONTAR.SI(F24:$G$32;"X")=9;"Ok, completo";"Alerta, hay preguntas sin contestar")
B26: 3 | C26: Investigaciones que se realizan con datos de salud o muestras biológicas almacenados en servicios de salud de manera tal que no se pueda determinar la identidad de los titulares (revisión de historias clínicas cuyos datos de identificación fueron anonimizados, análisis de muestras biológicas humanas anónimas o anonimizadas). Siempre y cuando el establecimiento o institución pública o privada cuente con un proceso estandarizado de anonimización o seudonimización, conforme lo determina la Ley Orgánica de Protección de Datos Personales. | I26: =IF(COUNTIF($F26:$G26,"X")=1,1,0) -> 0 | J26: =IF(COUNTIF(F26,"X")=1,1,0) -> 0
B27: 4 | C27: Investigación con uso de muestras biológicas humanas anonimizadas, almacenadas en colecciones o biobancos, que cuenten con un consentimiento informado amplio para almacenamiento y uso de futuras investigaciones. | I27: =IF(COUNTIF($F27:$G27,"X")=1,1,0) -> 0 | J27: =IF(COUNTIF(F27,"X")=1,1,0) -> 0
B28: 5 | C28: Investigación con análisis de medicamentos de amplio margen terapéutico, registrados por la ARCSA. Siempre que se respeten las indicaciones, dosis y vías de administración establecidas por las agencias reguladoras de medicamentos internacionales. Incluyen ensayos clínicos fase IV. | I28: =IF(COUNTIF($F28:$G28,"X")=1,1,0) -> 0 | J28: =IF(COUNTIF(F28,"X")=1,1,0) -> 0
B29: 6 | C29: Investigación con mediciones o procedimientos aprobados en la práctica habitual (ej. Clínicos, educativos, físicos nutricionales, odontológicos o psicológicos). | I29: =IF(COUNTIF($F29:$G29,"X")=1,1,0) -> 0 | J29: =IF(COUNTIF(F29,"X")=1,1,0) -> 0
B30: 7 | C30: Investigación que incluye interrogar, observar y/o medir cara a cara a los sujetos de investigación, en un área o materia que no sea sensible, siempre que la información se recopile de manera anónima. | I30: =IF(COUNTIF($F30:$G30,"X")=1,1,0) -> 0 | J30: =IF(COUNTIF(F30,"X")=1,1,0) -> 0
B31: 8 | C31: Investigación con intervenciones probadas y eficaces. | I31: =IF(COUNTIF($F31:$G31,"X")=1,1,0) -> 0 | J31: =IF(COUNTIF(F31,"X")=1,1,0) -> 0
B32: 9 | C32: Investigación de intervención educativa en adultos con recopilación de información identificativa. | I32: =IF(COUNTIF($F32:$G32,"X")=1,1,0) -> 0 | J32: =IF(COUNTIF(F32,"X")=1,1,0) -> 0
B34: INVESTIGACIONES SIN RIESGO | F34: SI | G34: NO | I34: CONTROL
B35: 1 | C35: Investigaciones que no se realicen sobre seres humanos, sus datos o sus muestras biológicas. | H35: =IF(AND(H9="Ok, completo. La investigación corresponde a este nivel de riesgo.",(H24="No aplica")),"No aplica",IF(COUNTIF($F$24:$G$32,"X")<>9,"Primero se debe completar la tabla anterior",IF(COUNTIF($F$24:$F$32,"X")>0,"No aplica",IF(AND(SUM($I$35:$I$42)=8,COUNTIF($F$35:$F$42,"X")>0),"OK, completo. La investigación corresponde a este nivel de riesgo.",IF(AND(COUNTIF($G$24:$G$32,"X")=8,COUNTIF($F$24:$G$32,"X")=9),"Ok, completo. No aplica este riesgo.",IF(OR(COUNTIF($F$35:$G$42,"X")=0,COUNTIF($F$35:$G$42,"X")>8,COUNTIF($F$35:$G$42,"X")<8),"Alerta, hay preguntas sin contestar o hay más de una selección para una pregunta. Revise la información en gris","Ok, completo. No aplica este riesgo.")))))) -> Primero se debe completar la tabla anterior | I35: =IF(COUNTIF($F35:$G35,"X")=1,1,0) -> 0 | J35: =IF(COUNTIF(F35,"X")=1,1,0) -> 0
B36: 2 | C36: Investigación con recopilación y análisis de datos abiertos o públicos. | I36: =IF(COUNTIF($F36:$G36,"X")=1,1,0) -> 0 | J36: =IF(COUNTIF(F36,"X")=1,1,0) -> 0 | K36: SI(CONTAR.SI(F31:$G$38;"X")=8;"Ok, completo";"Alerta, hay preguntas sin contestar")
B37: 3 | C37: Investigación con análisis secundario de datos consolidados o bases de datos anonimizadas, obtenidos de registros existentes que reposan en instituciones o establecimientos públicos o privados (no se incluye establecimientos de salud) que cuentan con procesos estandarizados de anonimización o seudonimización de la información de acuerdo con la Ley Orgánica de Protección de Datos Personales. | I37: =IF(COUNTIF($F37:$G37,"X")=1,1,0) -> 0 | J37: =IF(COUNTIF(F37,"X")=1,1,0) -> 0
B38: 4 | C38: Revisiones de políticas públicas y/o reglamentación. | I38: =IF(COUNTIF($F38:$G38,"X")=1,1,0) -> 0 | J38: =IF(COUNTIF(F38,"X")=1,1,0) -> 0
B39: 5 | C39: Investigación con análisis de información obtenida de fuentes secundarias de literatura científica. | I39: =IF(COUNTIF($F39:$G39,"X")=1,1,0) -> 0 | J39: =IF(COUNTIF(F39,"X")=1,1,0) -> 0
B40: 6 | C40: Investigación que evalúa anónimamente el sabor y/o calidad de alimentos, o estudios de aceptación del consumidor. | I40: =IF(COUNTIF($F40:$G40,"X")=1,1,0) -> 0 | J40: =IF(COUNTIF(F40,"X")=1,1,0) -> 0
B41: 7 | C41: Investigación que evalúa anónimamente programas públicos o prácticas educativas. | I41: =IF(COUNTIF($F41:$G41,"X")=1,1,0) -> 0 | J41: =IF(COUNTIF(F41,"X")=1,1,0) -> 0
B42: 8 | C42: Investigaciones con recopilación de información de forma anónima, como cuestionarios, entrevistas anónimas, donde no se registren datos que permitan la identificación de los participantes (datos personales), datos sensibles, población vulnerable, ni se traten aspectos sensibles de su conducta. | I42: =IF(COUNTIF($F42:$G42,"X")=1,1,0) -> 0 | J42: =IF(COUNTIF(F42,"X")=1,1,0) -> 0
B44: Resultado de la clasificación | F44: =IF(AND((H9="Ok, completo. La investigación corresponde a este nivel de riesgo."),(H24="No aplica"),(H35="No aplica")),"Riesgo mayor al mínimo",IF(AND(COUNTIF($F$24:$G$32,"X")=9,(COUNTIF($F$24:$F$32,"X")>0)),"Riesgo mínimo",IF(AND(COUNTIF($F$35:$G$42,"X")=8,COUNTIF($F$35:$F$42,"X")>0),"Investigación Sin Riesgo","Complete el formulario"))) -> Complete el formulario
...

Sheet Protocolo
B1: Instrucciones: Completa los campos en color gris, si tienes alguna duda de como llenar algún campo, consulta en el ícono Asegúrate de que todos los datos estén completos y correctos, antes de imprimir en PDF. OBLIGATORIO Utilizar el botón "PASAR AL SIGUIENTE DOCUMENTO" para navegar a través de los distintos formularios, éste le guiará únicamente por los que necesita llenar según el tipo de investigación a la cual pertenezca su proyecto.
J2: ='Datos de Investigación'!C5 -> 0
J3: =""&'Datos de Investigación'!$C$7&""
I4: ='Datos de Investigación'!C6 -> 45699
B5: Formulario para la presentación de Investigaciones
B7: A. DATOS GENERALES DEL PROYECTO
A8: i | B8: 1. TÍTULO (Debe constar el lugar y el año/s de la investigación)
B9: =""&'Datos de Investigación'!$C$17&""
A11: i | B11: 2. TIPO DE INVESTIGACIÓN
B12: Investigación Observacional | D12: =IF(B12='Formulario de clasificación'!F45,"X","") | E12: Investigación de Intervención | H12: =IF(AND(D12="",'Formulario de clasificación'!F45<>"Elija una opción",'Formulario de clasificación'!F45<>"Diseños Cualitativos en áreas sociales y humanidades"),"X","") | I12: Diseños Cualitativos en áreas sociales y humanidades | K12: =IF(I12='Formulario de clasificación'!F45,"X","")
B14: Marcar con X solo el campo que aplique según su investigación. (Dar click en cada tipo de estudio para obtener una definición).
B15: Estudio de corte transversal | D15: - | E15: Estudios cuasi-experimentales | H15: - | I15: Etnográfico | K15: -
B16: Estudio ecológico | D16: - | E16: Ensayo Clínico | H16: - | I16: Narrativo/ Biográfico | K16: -
B17: Reporte de caso | D17: - | E17: Estudios experimentales sin uso de medicamentos y/o dispositivos médicos | H17: - | I17: Fenomenológico | K17: -
B18: Series de casos | D18: - | E18: Intervenciones poblaciones experimentales | H18: - | I18: Documental | K18: -
B19: Estudio de caso y control | D19: - | H19: - | I19: Estudio de casos | K19: -
B20: Estudios de cohorte prospectivo | D20: - | H20: - | I20: Grupos focales/entrevistas | K20: -
B21: Estudios de cohorte retrospectivo | D21: - | H21: - | I21: Interpretativo/Teoría fundamentada | K21: -
I22: Observación
I23: Investigación-acción
B24: Otro: Especifique aquí | E24: Otro: Especifique aquí | I24: Otro: Especifique aquí
A27: i | B27: 3. TIEMPO DE EJECUCIÓN DE LA INVESTIGACIÓN
B28: Fecha estimada de inicio de la investigación:
B29: Fecha estimada de término de la investigación:
B30: Periodo de duración (en meses): | G30: =DATEDIF(G28,G29,"m") -> 0
A32: i | B32: 4. FINANCIAMIENTO DE LA INVESTIGACIÓN
B33: Monto total del financiamiento de la investigación:
B34: Fuentes de financiamiento:
A36: i | B36: 5. DATOS DEL PATROCINADOR
B37: Patrocinador | F37: Cédula de ciudadanía/ RUC:
B38: Telf. Institucional | E38: Ext. | F38: Correo electrónico:
B39: Dirección
B40: Página Web Institucional
B41: Órgano Ejecutor
A43: i | B43: 6. COBERTURA DE EJECUCIÓN DE LA INVESTIGACIÓN (Marcar con una "X" y elegir una opción).
B44: Nacional | C44: Elija una opción
B45: Provincial | C45: Elija una opción
B46: 2 o mas Provincias | C46: Elija una opción
B47: Local | C47: Elija una opción
A51: i | B51: 7. PERSONAL DE LA INVESTIGACIÓN (No eliminar las filas en este cuadro, solo aumentar en caso de necesitarlo).
...

Sheet Declaración de Responsabilidad
I1: ='Datos de Investigación'!C5 -> 0
I2: =""&'Datos de Investigación'!$C$7&""
H3: ='Datos de Investigación'!C6 -> 45699
A5: Declaración de Responsabilidad del Investigador Principal Investigaciones Sin Riesgo
A6: ="Yo "&'Datos de Investigación'!$C$8&", con cédula Nro. "&'Datos de Investigación'!$C$10&" en calidad de Investigador principal de la investigación "&'Datos de Investigación'!$C$17&", me comprometo a:" -> Yo , con cédula Nro. en calidad de Investigador principal de la investigación , me comprometo a:
A7: 1. Iniciar la ejecución de mi investigación una vez obtenida la carta de exención del CEISH-USFQ. 2. Conducir mi investigación de conformidad a lo estipulado en el protocolo de investigación aprobado por el CEISH-USFQ. 3. Aplicar las normas nacionales e internacionales de bioética de la investigación, en todas las fases del estudio, para: a) Cumplir con los principios de autonomía, justicia, beneficencia y no maleficencia. b) Garantizar la confidencialidad de la información recopilada durante la investigación. c) Garantizar la adecuada aplicación del consentimiento informado (si aplica) d) Garantizar la seguridad y el bienestar de los sujetos de investigación. e) Diseñar provisiones especiales, si fueren necesarias, para atender las necesidades de los sujetos de investigación. 4. Garantizar la validez científica y ética de mi investigación. 5. Garantizar la veracidad de los datos recolectados y publicados. 6. Cumplir con los acuerdos de entrega de beneficios descritos en el protocolo de investigación. 7. Seguir las instrucciones correctivas establecidas por el CEISH-USFQ. 8. Notificar al CEISH-USFQ del inicio y finalización de la investigación, en el término de diez (10) días. 9. Reportar al CEISH-USFQ las desviaciones al protocolo de investigación aprobado, adjuntando un plan de remediación-prevención. 10. Solicitar al CEISH-USFQ la evaluación y aprobación de enmiendas a mi investigación y/o documentación relacionada, previo a su implementación. 11. Emitir al CEISH-USFQ publicación científica oficial de la investigación, cuando esté disponible. Adjuntando enlace de acceso directo o artículo científico a texto completo. 12. Responder a las comunicaciones en los tiempos establecidos por el CEISH-USFQ. De ser necesario podré solicitar en una sola ocasión una extensión del tiempo otorgado por el Comité. Entiendo que, si no respondo dentro del tiempo establecido, mi proceso será archivado y tendré que presentar una nueva solicitud.
A12: Firma investigador principal
A14: =""&'Datos de Investigación'!C8&""
A15: =""&'Datos de Investigación'!$C$14&""
A16: Correo electrónico: | C16: =""&'Datos de Investigación'!$C$13&""
A17: Telf.: | B17: ='Datos de Investigación'!$C$11 -> 0
A18: NOTA: Revisar que el documento esté completo adecuadamente para guardar en PDF.
B20: REGRESAR | G20: =IF(A17="Telf.:",HYPERLINK("#"&"'No aplicación Consent.Informado'!A1","Pasar al siguiente documento"),"Documentos Investigaciones Sin Riesgo") -> Pasar al siguiente documento

Sheet No aplicación Consent.Informado
A1: Instrucciones: En la siguiente carta completar los campos en color gris, asegurarse que los campos se llenen de acuerdo a los comentarios que se despliegan al dar click en cada campo.
I2: ='Datos de Investigación'!C5 -> 0
I3: =""&'Datos de Investigación'!$C$7&""
H4: ='Datos de Investigación'!C6 -> 45699
A5: Justificación de No aplicación de Consentimiento Informado
A7: A. Datos de la investigación
A8: Título de la investigación: | D8: =""&'Datos de Investigación'!$C$17&""
A9: Investigador principal: | D9: =""&'Datos de Investigación'!$C$8&""
A10: Patrocinador: | D10: =""&'Datos de Investigación'!$C$19&""
A11: Correo electrónico: | D11: =""&'Datos de Investigación'!$C$13&""
A13: B. Investigaciones que no requieren de la aplicación de un FCI
A14: Investigación que no se realizan sobre seres humanos, sus datos o sus muestras biológicas | J14: =IF('Formulario de clasificación'!F35="X","X","N/A") -> N/A
A15: Investigación con recopilación y análisis de datos abiertos o públicos. | J15: =IF('Formulario de clasificación'!F36="X","X","N/A") -> N/A
A16: Investigación con análisis secundario de datos consolidados o bases de datos anonimizadas, obtenidos de registros existentes que reposan en instituciones o establecimientos públicos o privados que cuentan con procesos estandarizados de anonimización o seudonimización de la información. | J16: =IF('Formulario de clasificación'!F37="X","X","N/A") -> N/A
A17: Revisiones de políticas públicas y/o reglamentación. | J17: =IF('Formulario de clasificación'!F38="X","X","N/A") -> N/A
A18: Investigación con análisis de información obtenida de fuentes secundarias de literatura científica. | J18: =IF('Formulario de clasificación'!F39="X","X","N/A") -> N/A
A19: Investigación que evalúa anónimamente el sabor y/o calidad de alimentos, o estudios de aceptación del consumidor. | J19: =IF('Formulario de clasificación'!F40="X","X","N/A") -> N/A
A20: Investigación que evalúa anónimamente programas públicos o prácticas educativas. | J20: =IF('Formulario de clasificación'!F41="X","X","N/A") -> N/A
A21: Investigación con recopilación de información de forma anónima, en las que no se registre información sensible o participe población vulnerable o en condición de vulnerabilidad. | J21: =IF('Formulario de clasificación'!F42="X","X","N/A") -> N/A
A23: C. Justificación de no aplicación de consentimiento informado
A31: Firma investigador principal
A33: =""&'Datos de Investigación'!C8&""
A34: =""&'Datos de Investigación'!$C$14&""
A35: Correo electrónico: | C35: =""&'Datos de Investigación'!$C$13&""
A36: Telf.: | B36: ='Datos de Investigación'!$C$11 -> 0
A38: NOTA: Revisar que el documento esté completo adecuadamente para guardar en PDF.
B40: REGRESAR | G40: =IF(A36="Telf.:",HYPERLINK("#"&"'Declaración de Interés Inst SR'!A1","Pasar al siguiente documento"),"Documentos Investigaciones Sin Riesgo") -> Pasar al siguiente documento

Sheet Declaración de Interés Inst SR
A1: Instrucciones: EN CASO DE QUE APLIQUE guardar/ imprimir en PDF la siguiente carta.
I2: ='Datos de Investigación'!C5 -> 0
I3: =""&'Datos de Investigación'!$C$7&""
H4: ='Datos de Investigación'!C6 -> 45699
A6: Carta de Declaración de Interés Institucional
A7: A quien pueda interesar
A9: ="Por medio de la presente manifiesto que el proyecto titulado: "&'Datos de Investigación'!$C$17&", es de interés institucional por los resultados que se pueden generar para el "&'Datos de Investigación'!$C$20&", tomando en cuenta que: "&'Datos de Investigación'!$C$18&" Informo también que la participación del "&'Datos de Investigación'!C20&", es libre y voluntaria; y, que en caso de solicitar datos anonimizados o seudonimizados el "&'Datos de Investigación'!C20&" cuenta con la capacidad de entregar los datos de manera anonimizada o seudonimizada según lo establecido en la Ley Orgánica de Protección de datos Personales entendiéndose"&" por datos personales: nombres, cédula de identidad y correo electrónico, etc; de contener alguna de esta información, no podrá categorizarse como investigaciones Sin Riesgo." -> Por medio de la presente manifiesto que el proyecto titulado: , es de interés institucional por los resultados que se pueden generar para el , tomando en cuenta que: Informo también que la participación del , es libre y voluntaria; y, que en caso de solicitar datos anonimizados o seudonimizados el cuenta con la capacidad de entregar los datos de manera anonimizada o seudonimizada según lo establecido en la Ley Orgánica de Protección de datos Personales entendiéndose por datos personales: nombres, cédula de identidad y correo electrónico, etc; de contener alguna de esta información, no podrá categorizarse como investigaciones Sin Riesgo.
A15: ="Además, los investigadores han manifestado que cuentan con los insumos necesarios para la ejecución del proyecto de Investigación. Por tanto, el "&'Datos de Investigación'!$C$20&" no contempla algún tipo de financiamiento para el desarrollo de este estudio. " -> Además, los investigadores han manifestado que cuentan con los insumos necesarios para la ejecución del proyecto de Investigación. Por tanto, el no contempla algún tipo de financiamiento para el desarrollo de este estudio.
A18: Se aclara que este documento no constituye la autorización, ni la aprobación del proyecto, o del uso de insumos o recursos humanos de la institución. Además, se informa que una vez que la investigación sea aprobada por un Comité de Ética de Investigación en Seres Humanos autorizado por el Ministerio de Salud Pública, el Investigador principal podrá solicitar los datos de los sujetos de estudio o datos de salud anonimizados o seudonimizado, debiendo adjuntar el protocolo de investigación aprobado y la carta de aprobación emitida por el CEISH.
A26: Quito, | B26: =H4 -> 45699
A32: =""&'Datos de Investigación'!$C$21&""
A33: =""&'Datos de Investigación'!$C$22&""
A35: NOTA: Revisar que el documento esté completo adecuadamente para guardar en PDF.
B37: REGRESAR | G37: =IF(A35="Nota: Revisar que el documento esté completo adecuadamente para guardar en PDF.",HYPERLINK("#"&"'Instrumentos de la invest. SR'!A1","Pasar al siguiente documento"),"Documentos Investigaciones Sin Riesgo") -> Pasar al siguiente documento

Sheet Instrumentos de la invest. SR
A1: Instrucciones: Incluir cualquier formulario que sirva para la recolección de información: Entrevistas, encuestas, instrucciones escritas, manuales, guías, entre otros. Pegar aquí la información en cualquier formato.
I2: ='Datos de Investigación'!C5 -> 0
I3: =""&'Datos de Investigación'!$C$7&""
H4: ='Datos de Investigación'!C6 -> 45699
A5: Instrumentos de la Investigación
A28: NOTA: Revisar que el documento esté completo adecuadamente para guardar en PDF.
A30: REGRESAR | D30: =IF(OR(#REF!="",ISBLANK(#REF!),#REF!="",ISBLANK(#REF!),#REF!="",ISBLANK(#REF!)),"Formulario incompleto","") -> #REF! | G30: =IF(A28="Nota: Revisar que el documento esté completo adecuadamente para guardar en PDF.",HYPERLINK("#"&"'Solicitud de Excención'!A1","Pasar al siguiente documento"),"Documentos Investigaciones Sin Riesgo") -> Pasar al siguiente documento

Sheet Solicitud de Excención
A1: Instrucciones: En la siguiente carta completar los campos en color gris, asegurarse que los campos se llenen de acuerdo a los comentarios que se despliegan al dar click en cada campo.
I3: ='Datos de Investigación'!C5 -> 0
I4: =""&'Datos de Investigación'!$C$7&""
G5: ='Datos de Investigación'!C6 -> 45699
A6: Señora, Ximena Garzón MD. PhD. Presidente del Comité de Ética de Investigación en Seres Humanos de la Universidad San Francisco de Quito USFQ (CEISH-USFQ)
A8: De mi mejor consideración:
A10: ="Por medio del presente, yo "&'Datos de Investigación'!$C$8&" en calidad de investigador principal, solicito la exención de evaluación de la investigación "&'Datos de Investigación'!$C$17&", que se sustenta en la siguiente documentación:" -> Por medio del presente, yo en calidad de investigador principal, solicito la exención de evaluación de la investigación , que se sustenta en la siguiente documentación:
A14: Documentos adjuntos | G14: Idioma Versión | I14: Fecha Doc. | J14: # págs
A15: 1 | B15: Protocolo de investigación
A16: 2 | B16: Justificación de no aplicación de consentimiento informado
A17: 3 | B17: Instrumentos de la investigación (entrevistas, encuestas, instrucciones escritas, manuales, guías, entre otros).
A18: 4 | B18: Hoja de vida del investigador principal
A19: 5 | B19: Declaración de responsabilidad del investigador principal
A20: 6 | B20: Carta de interés institucional, suscrita por la máxima autoridad del o de los establecimientos de salud o instituciones en las que se ejecutará la investigación (si aplica).
A22: Justificación de Exención de evaluación
A28: Código HUBI | C28: ='Datos de Investigación'!$C$16 -> 0
A29: Colegio | C29: ='Datos de Investigación'!$C$15 -> 0
A31: Atentamente
A36: =""&'Datos de Investigación'!C8&""
A37: =""&'Datos de Investigación'!$C$14&""
A38: Correo electrónico: | C38: =""&'Datos de Investigación'!$C$13&""
A39: Telf.: | B39: ='Datos de Investigación'!$C$11 -> 0
A40: NOTA: Revisar que el documento esté completo adecuadamente para guardar en PDF.
B42: REGRESAR | F42: =IF('Hoja de vida'!D74="Formulario completo",HYPERLINK("#"&"'Hoja de vida'!B1","Pasar al siguiente documento"),"Llenar campos en gris") -> Pasar al siguiente documento

Sheet Hoja de vida
A1: Instrucciones: Llenar una hoja de vida por cada miembro de la investigación, en caso de ser necesarios aumentar mas cuadros. Al momento de imprimir seleccionar la hoja de vida que se desea imprimir, ir a ARCHIVO>> IMPRIMIR>> CONFIGURACIÓN>> IMPRIMIR SELECCIÓN. De esta manera solo se imprimirá la hoja de vida seleccionada.
A5: Modelo Hoja de vida | K5: Modelo Hoja de vida | U5: Modelo Hoja de vida | AE5: Modelo Hoja de vida | AO5: Modelo Hoja de vida
A7: =""&'Datos de Investigación'!$C$8&"" | K7: =""&Protocolo!$C$54&"" | U7: =""&Protocolo!$C$55&"" | AE7: =""&Protocolo!$C$56&"" | AO7: =""&Protocolo!$C$57&""
A9: DATOS GENERALES | K9: DATOS GENERALES | U9: DATOS GENERALES | AE9: DATOS GENERALES | AO9: DATOS GENERALES
A10: Cédula o pasaporte: | C10: ='Datos de Investigación'!$C$10 -> 0 | K10: Cédula o pasaporte: | M10: =""&Protocolo!$E$54&"" | U10: Cédula o pasaporte: | W10: =""&Protocolo!$E$55&"" | AE10: Cédula o pasaporte: | AG10: =""&Protocolo!$E$56&"" | AO10: Cédula o pasaporte: | AQ10: =""&Protocolo!$E$57&""
A11: Dirección: | C11: ='Datos de Investigación'!$C$12 -> 0 | K11: Dirección: | U11: Dirección: | AE11: Dirección: | AO11: Dirección:
A12: Teléfono: | C12: ='Datos de Investigación'!$C$11 -> 0 | K12: Teléfono: | M12: =""&Protocolo!$J$54&"" | U12: Teléfono: | W12: =""&Protocolo!$J$55&"" | AE12: Teléfono: | AG12: =""&Protocolo!$J$56&"" | AO12: Teléfono: | AQ12: =""&Protocolo!$J$57&""
A13: Correo electrónico: | C13: ='Datos de Investigación'!$C$10 -> 0 | K13: Correo electrónico: | M13: =""&Protocolo!$H$54&"" | U13: Correo electrónico: | W13: =""&Protocolo!$H$55&"" | AE13: Correo electrónico: | AG13: =""&Protocolo!$H$56&"" | AO13: Correo electrónico: | AQ13: =""&Protocolo!$H$57&""
A15: FORMACIÓN ACADÉMICA | K15: FORMACIÓN ACADÉMICA | U15: FORMACIÓN ACADÉMICA | AE15: FORMACIÓN ACADÉMICA | AO15: FORMACIÓN ACADÉMICA
A16: Título* | D16: Institución Superior | F16: Año | G16: País | I16: Nº. Registro SENESCYT | K16: Título* | N16: Institución Superior | P16: Año | Q16: País | S16: Nº. Registro SENESCYT | U16: Título* | X16: Institución Superior | Z16: Año | AA16: País | AC16: Nº. Registro SENESCYT | AE16: Título* | AH16: Institución Superior | AJ16: Año | AK16: País | AM16: Nº. Registro SENESCYT | AO16: Título* | AR16: Institución Superior | AT16: Año | AU16: País | AW16: Nº. Registro SENESCYT
A21: Registro Título SENESCYT | K21: Registro Título SENESCYT | U21: Registro Título SENESCYT | AE21: Registro Título SENESCYT | AO21: Registro Título SENESCYT
A26: EXPERIENCIA LABORAL (En caso de no tener experiencia laboral dejar este campo vacío). | K26: EXPERIENCIA LABORAL (En caso de no tener experiencia laboral dejar este campo vacío). | U26: EXPERIENCIA LABORAL (En caso de no tener experiencia laboral dejar este campo vacío). | AE26: EXPERIENCIA LABORAL (En caso de no tener experiencia laboral dejar este campo vacío). | AO26: EXPERIENCIA LABORAL (En caso de no tener experiencia laboral dejar este campo vacío).
A27: Institución | D27: Desde | E27: Hasta | F27: Cargo dentro de la institución | I27: Ciudad-País | K27: Institución | N27: Desde | O27: Hasta | P27: Cargo dentro de la institución | S27: Ciudad-País | U27: Institución | X27: Desde | Y27: Hasta | Z27: Cargo dentro de la institución | AC27: Ciudad-País | AE27: Institución | AH27: Desde | AI27: Hasta | AJ27: Cargo dentro de la institución | AM27: Ciudad-País | AO27: Institución | AR27: Desde | AS27: Hasta | AT27: Cargo dentro de la institución | AW27: Ciudad-País
A35: EXPERIENCIA EN INVESTIGACIÓN (En caso de no tener experiencia en investigación dejar este campo vacío). | K35: EXPERIENCIA EN INVESTIGACIÓN (En caso de no tener experiencia en investigación dejar este campo vacío). | U35: EXPERIENCIA EN INVESTIGACIÓN (En caso de no tener experiencia en investigación dejar este campo vacío). | AE35: EXPERIENCIA EN INVESTIGACIÓN (En caso de no tener experiencia en investigación dejar este campo vacío). | AO35: EXPERIENCIA EN INVESTIGACIÓN (En caso de no tener experiencia en investigación dejar este campo vacío).
A36: Título de la investigación | D36: Tipo de investigación | F36: Área de estudio | G36: Institución | I36: Rol en la investigación | K36: Título de la investigación | N36: Tipo de investigación | P36: Área de estudio | Q36: Institución | S36: Rol en la investigación | U36: Título de la investigación | X36: Tipo de investigación | Z36: Área de estudio | AA36: Institución | AC36: Rol en la investigación | AE36: Título de la investigación | AH36: Tipo de investigación | AJ36: Área de estudio | AK36: Institución | AM36: Rol en la investigación | AO36: Título de la investigación | AR36: Tipo de investigación | AT36: Área de estudio | AU36: Institución | AW36: Rol en la investigación
A43: Nª. Registro Investigador SENESCYT | D43: Categoría | H43: Estado | K43: Nª. Registro Investigador SENESCYT | N43: Categoría | R43: Estado | U43: Nª. Registro Investigador SENESCYT | X43: Categoría | AB43: Estado | AE43: Nª. Registro Investigador SENESCYT | AH43: Categoría | AL43: Estado | AO43: Nª. Registro Investigador SENESCYT | AR43: Categoría | AV43: Estado
A46: PUBLICACIONES | K46: PUBLICACIONES | U46: PUBLICACIONES | AE46: PUBLICACIONES | AO46: PUBLICACIONES
A47: Título de la publicación | D47: Tipo publicación | E47: Publicación | F47: Fecha publicación | G47: DOI o ISBN | I47: Autores | K47: Título de la publicación | N47: Tipo publicación | O47: Publicación | P47: Fecha publicación | Q47: DOI o ISBN | S47: Autores | U47: Título de la publicación | X47: Tipo publicación | Y47: Publicación | Z47: Fecha publicación | AA47: DOI o ISBN | AC47: Autores | AE47: Título de la publicación | AH47: Tipo publicación | AI47: Publicación | AJ47: Fecha publicación | AK47: DOI o ISBN | AM47: Autores | AO47: Título de la publicación | AR47: Tipo publicación | AS47: Publicación | AT47: Fecha publicación | AU47: DOI o ISBN | AW47: Autores
A54: CAPACITACIONES | K54: CAPACITACIONES | U54: CAPACITACIONES | AE54: CAPACITACIONES | AO54: CAPACITACIONES
A55: Curso, taller, seminario, congreso etc. | E55: Institución | G55: Duración | I55: Mes-año | K55: Curso, taller, seminario, congreso etc. | O55: Institución | Q55: Duración | S55: Mes-año | U55: Curso, taller, seminario, congreso etc. | Y55: Institución | AA55: Duración | AC55: Mes-año | AE55: Curso, taller, seminario, congreso etc. | AI55: Institución | AK55: Duración | AM55: Mes-año | AO55: Curso, taller, seminario, congreso etc. | AS55: Institución | AU55: Duración | AW55: Mes-año
A59: Certificados de Capacitación en Ética de la Investigación | K59: Certificados de Capacitación en Ética de la Investigación | U59: Certificados de Capacitación en Ética de la Investigación | AE59: Certificados de Capacitación en Ética de la Investigación | AO59: Certificados de Capacitación en Ética de la Investigación
A65: En caso de no contar con capacitación en ética de la investigación, completar los cursos: Introduction to Research Ethics Informed Consent Good Clinical Practice. Completar este curso solo si es investigador de un ensayo clínico. Estos cursos se encuentran disponibles de forma gratuita en la plataforma Training and Resources in Research Ethics Evaluation | K65: En caso de no contar con capacitación en ética de la investigación, completar los cursos: Introduction to Research Ethics Informed Consent Good Clinical Practice. Completar este curso solo si es investigador de un ensayo clínico. Estos cursos se encuentran disponibles de forma gratuita en la plataforma Training and Resources in Research Ethics Evaluation | U65: En caso de no contar con capacitación en ética de la investigación, completar los cursos: Introduction to Research Ethics Informed Consent Good Clinical Practice. Completar este curso solo si es investigador de un ensayo clínico. Estos cursos se encuentran disponibles de forma gratuita en la plataforma Training and Resources in Research Ethics Evaluation | AE65: En caso de no contar con capacitación en ética de la investigación, completar los cursos: Introduction to Research Ethics Informed Consent Good Clinical Practice. Completar este curso solo si es investigador de un ensayo clínico. Estos cursos se encuentran disponibles de forma gratuita en la plataforma Training and Resources in Research Ethics Evaluation | AO65: En caso de no contar con capacitación en ética de la investigación, completar los cursos: Introduction to Research Ethics Informed Consent Good Clinical Practice. Completar este curso solo si es investigador de un ensayo clínico. Estos cursos se encuentran disponibles de forma gratuita en la plataforma Training and Resources in Research Ethics Evaluation
A71: https://elearning.trree.org/ | K71: https://elearning.trree.org/ | U71: https://elearning.trree.org/ | AE71: https://elearning.trree.org/ | AO71: https://elearning.trree.org/
A73: NOTA: Revisar que el documento esté completo adecuadamente para guardar en PDF.
B74: REGRESAR | D74: Formulario completo | G74: FINALIZADO

Sheet Declaración de Resp. (O&I)
I1: ='Datos de Investigación'!C5 -> 0
I2: =""&'Datos de Investigación'!$C$7&""
H3: ='Datos de Investigación'!C6 -> 45699
A5: Declaración de Responsabilidad del Investigador Principal
A6: ="Yo "&'Datos de Investigación'!$C$8&", con cédula Nro. "&'Datos de Investigación'!$C$10&" en calidad de Investigador principal de la investigación "&'Datos de Investigación'!$C$17&", me comprometo a:" -> Yo , con cédula Nro. en calidad de Investigador principal de la investigación , me comprometo a:
A7: 1. Iniciar la ejecución de mi investigación una vez obtenida la aprobación del CEISH-USFQ. 2. Conducir mi investigación de conformidad a lo estipulado en el protocolo de investigación aprobado por el CEISH-USFQ. 3. Aplicar las normas nacionales e internacionales de bioética de la investigación, en todas las fases del estudio, para: a) Cumplir con los principios de autonomía, justicia, beneficencia y no maleficencia. b) Garantizar la confidencialidad de la información recopilada durante la investigación. c) Garantizar la adecuada aplicación del consentimiento informado. d) Garantizar la seguridad y el bienestar de los sujetos de investigación. e) Diseñar provisiones especiales, si fueren necesarias, para atender las necesidades de los sujetos de investigación. 4. Garantizar la validez científica y ética de mi investigación. 5. Garantizar la veracidad de los datos recolectados y publicados. 6. Cumplir con los acuerdos de entrega de beneficios descritos en el protocolo de investigación. 7. Declarar cualquier conflicto de interés que pueda afectar la objetividad e independencia en el cumplimiento de mis responsabilidades. 8. Proveer al CEISH-USFQ cualquier información que este solicite durante el proceso de seguimiento de la investigación. 9. Seguir las instrucciones correctivas establecidas por el CEISH-USFQ. 10. Emitir al CEISH-USFQ: a) Informe de inicio de la investigación, al término de treinta (30) días. b) Informes de avance de la investigación con una periodicidad semestral, desde el inicio de ejecución hasta la culminación de la investigación. c) Informe final de la investigación al término de sesenta (60) días después de culminada la investigación. 11. Notificar al CEISH-USFQ de la terminación anticipada de la investigación, al término de quince (15) días, informando las razones de la terminación, los resultados obtenidos antes de la terminación y las medidas adoptadas con los participantes (si aplica). 12. Reportar al CEISH-USFQ las desviaciones al protocolo de investigación aprobado, adjuntando un plan de remediación-prevención. 13. Aceptar cualquier visita/reunión de seguimiento requerida por el CEISH-USFQ, brindando las facilidades correspondientes. 14. Solicitar al CEISH-USFQ la evaluación y aprobación de enmiendas a mi investigación y/o documentación relacionada, previo a su implementación. 15. Solicitar la renovación de la aprobación de mi proyecto de investigación, con al menos sesenta (60) días de anticipación a la terminación de la vigencia de aprobación otorgada por el CEISH-USFQ. En caso de expirar la aprobación otorgada por el CEISH-USFQ, suspenderé las actividades de la investigación a fin de garantizar la seguridad de los sujetos de investigación.
A43: 16. Solicitar a la ARCSA la autorización de importación/exportación de muestras biológicas humanas (si aplica).
A44: 17. Emitir al CEISH-USFQ publicación científica oficial de la investigación, cuando esté disponible. Adjuntando enlace de acceso directo o artículo científico a texto completo. 18. Responder a las comunicaciones en los tiempos establecidos por el CEISH-USFQ. De ser necesario podré solicitar en una sola ocasión una extensión del tiempo otorgado por el Comité. Entiendo que, si no respondo dentro del tiempo establecido, mi proceso será archivado y tendré que presentar una nueva solicitud.
A52: Firma investigador principal
A54: =""&'Datos de Investigación'!C8&""
A55: =""&'Datos de Investigación'!$C$14&""
A56: Correo electrónico: | C56: =""&'Datos de Investigación'!$C$13&""
A57: Telf.: | B57: ='Datos de Investigación'!$C$11 -> 0
A58: NOTA: Revisar que el documento esté completo adecuadamente para guardar en PDF.
C60: REGRESAR | F60: =IF(A57="Telf.:",HYPERLINK("#"&"'Compromiso de confidencialidad'!A1","Pasar al siguiente documento"),"Documentos Investigaciones Observacionales") -> Pasar al siguiente documento

Sheet Compromiso de confidencialidad
I1: ='Datos de Investigación'!C5 -> 0
I2: =""&'Datos de Investigación'!$C$7&""
H3: ='Datos de Investigación'!C6 -> 45699
A5: Declaración de Compromiso de Confidencialidad
G7: Quito, | H7: =TODAY() -> 45699
A9: ="Por medio del presente, yo/nosotros "&Protocolo!$C$53&", "&Protocolo!$C$54&", "&Protocolo!$C$55&", "&Protocolo!$C$56&", "&Protocolo!$C$57&", "&Protocolo!$C$58&", "&Protocolo!$C$59&", "&Protocolo!$C$60&", "&Protocolo!$C$61&", "&Protocolo!$C$62&", con cédula Nro. "&Protocolo!$E$53&", "&Protocolo!$E$54&", "&Protocolo!$E$55&", "&Protocolo!$E$56&", "&Protocolo!$E$57&", "&Protocolo!$E$58&", "&Protocolo!$E$59&", "&Protocolo!$E$60&", "&Protocolo!$E$61&", "&Protocolo!$E$62&" en calidad de "&Protocolo!$B$53&", "&Protocolo!$B$54&", "&Protocolo!$B$55&", "&Protocolo!$B$56&", "&Protocolo!$B$57&", "&Protocolo!$B$58&", "&Protocolo!$B$59&", "&Protocolo!$B$60&", "&Protocolo!$B$61&", "&Protocolo!$B$62&", de la presente investigación, consciente/s de la importancia de salvaguardar la confidencialidad y el derecho a la protección de la información de los sujetos de la investigación, me comprometo/nos comprometemos a:" -> Por medio del presente, yo/nosotros 0, , , , , , , , , , con cédula Nro. 0, , , , , , , , , en calidad de Investigador Principal, , , , , , , , , , de la presente investigación, consciente/s de la importancia de salvaguardar la confidencialidad y el derecho a la protección de la información de los sujetos de la investigación, me comprometo/nos comprometemos a:
A11: a. Guardar estricta confidencialidad de la información de carácter personal y privada de los sujetos de investigación. b. Garantizar la seguridad y confidencialidad de la información recabada o que resulte de la investigación. c. Cumplir con lo dispuesto en la Ley Orgánica de Protección de Datos personales (si aplica). d. No difundir, publicar, transferir y/o ceder a terceros la información de los sujetos de investigación, sin su consentimiento expreso. e. Emplear la información recabada durante la investigación exclusivamente para los fines descritos en el protocolo de investigación aprobado por el CEISH-USFQ. f. Manejar la información de conformidad a lo descrito en el protocolo de investigación aprobado por el CEISH-USFQ. g. Publicar los resultados de la investigación garantizando la confidencialidad de los sujetos de investigación. Las obligaciones establecidas en el presente documento tendrán una duración indefinida y se mantendrán en vigor incluso con posterioridad a la finalización de la investigación.
A17: =""&Protocolo!$C$53&"" -> 0 | E17: =""&Protocolo!$C$54&"" | H17: =""&Protocolo!$C$55&""
A24: =""&Protocolo!$C$56&"" | E24: =""&Protocolo!$C$57&"" | H24: =""&Protocolo!$C$58&""
A31: =""&Protocolo!$C$59&"" | E31: =""&Protocolo!$C$60&"" | H31: =""&Protocolo!$C$61&""
A38: =""&Protocolo!$C$62&""
A39: Firma de todos los miembros del equipo
A41: NOTA: Revisar que el documento esté completo adecuadamente para guardar en PDF.
C43: REGRESAR | G43: =IF(A41="NOTA: Revisar que el documento esté completo adecuadamente para guardar en PDF.",HYPERLINK("#"&"'No aplicación Consent.Infor(IO)'!A1","Pasar al siguiente documento"),"Documentos Investigaciones Observacionales") -> Pasar al siguiente documento

Sheet No aplicación Consent.Infor(IO)
A1: Instrucciones: EN CASO DE QUE APLIQUE llenar la siguiente carta completando los campos en color gris, asegurarse que los campos se llenen de acuerdo a los comentarios que se despliegan al dar click en cada campo.
I2: ='Datos de Investigación'!C5 -> 0
I3: =""&'Datos de Investigación'!$C$7&""
G4: ='Datos de Investigación'!C6 -> 45699
A5: Justificación de No aplicación de Consentimiento Informado Investigaciones Observacionales de Riesgo Mínimo
A7: A. Datos de la investigación
A8: Título de la investigación: | D8: =""&'Datos de Investigación'!$C$17&""
A9: Investigador principal: | D9: =""&'Datos de Investigación'!$C$8&""
A10: Patrocinador: | D10: =""&'Datos de Investigación'!$C$19&""
A11: Correo electrónico: | D11: =""&'Datos de Investigación'!$C$13&""
A13: B. Investigaciones que no requieren de la aplicación de un FCI
A14: Investigación que no se realizan sobre seres humanos, sus datos o sus muestras biológicas | J14: NO
A15: Investigación con recopilación y análisis de datos abiertos o públicos. | J15: NO
A16: Investigación con análisis secundario de datos consolidados o bases de datos anonimizadas, obtenidos de registros existentes que reposan en instituciones o establecimientos públicos o privados que cuentan con procesos estandarizados de anonimización o seudonimización de la información.
A17: Revisiones de políticas públicas y/o reglamentación.
A18: Investigación con análisis de información obtenida de fuentes secundarias de literatura científica. | J18: NO
A19: Investigación que evalúa anónimamente el sabor y/o calidad de alimentos, o estudios de aceptación del consumidor.
A20: Investigación que evalúa anónimamente programas públicos o prácticas educativas.
A21: Investigación con recopilación de información de forma anónima, en las que no se registre información sensible o participe población vulnerable o en condición de vulnerabilidad.
A23: C. Justificación de no aplicación de consentimiento informado
A31: Firma investigador principal
A33: =""&'Datos de Investigación'!C8&""
A34: =""&'Datos de Investigación'!$C$14&""
A35: Correo electrónico: | C35: =""&'Datos de Investigación'!$C$13&""
A36: Telf.: | B36: ='Datos de Investigación'!$C$11 -> 0
A38: NOTA: Revisar que el documento esté completo adecuadamente para guardar en PDF.
B40: REGRESAR | G40: =IF(A36="Telf.:",HYPERLINK("#"&"'Declaración de Interés Inst.'!A1","Pasar al siguiente documento"),"Documentos Investigaciones Sin Riesgo") -> Pasar al siguiente documento

Sheet Declaración de Interés Inst.
A1: Instrucciones: EN CASO DE QUE APLIQUE guardar/ imprimir en PDF la siguiente carta.
I2: ='Datos de Investigación'!C5 -> 0
I3: =""&'Datos de Investigación'!$C$7&""
H4: ='Datos de Investigación'!C6 -> 45699
A6: Carta de Declaración de Interés Institucional
A7: A quien pueda interesar
A9: ="Por medio de la presente manifiesto que el proyecto titulado: "&'Datos de Investigación'!$C$17&", es de interés institucional por los resultados que se pueden generar para el "&'Datos de Investigación'!$C$20&", tomando en cuenta que: "&'Datos de Investigación'!$C$18&" Informo también que la participación del "&'Datos de Investigación'!C20&", es libre y voluntaria; y, que en caso de solicitar datos anonimizados o seudonimizados el "&'Datos de Investigación'!C20&" cuenta con la capacidad de entregar los datos de manera anonimizada o seudonimizada según lo establecido en la Ley Orgánica de Protección de datos Personales entendiéndose"&" por datos personales: nombres, cédula de identidad y correo electrónico, etc; de contener alguna de esta información, no podrá categorizarse como investigaciones Sin Riesgo." -> Por medio de la presente manifiesto que el proyecto titulado: , es de interés institucional por los resultados que se pueden generar para el , tomando en cuenta que: Informo también que la participación del , es libre y voluntaria; y, que en caso de solicitar datos anonimizados o seudonimizados el cuenta con la capacidad de entregar los datos de manera anonimizada o seudonimizada según lo establecido en la Ley Orgánica de Protección de datos Personales entendiéndose por datos personales: nombres, cédula de identidad y correo electrónico, etc; de contener alguna de esta información, no podrá categorizarse como investigaciones Sin Riesgo.
A15: ="Además, los investigadores han manifestado que cuentan con los insumos necesarios para la ejecución del proyecto de Investigación. Por tanto, el "&'Datos de Investigación'!$C$20&" no contempla algún tipo de financiamiento para el desarrollo de este estudio. " -> Además, los investigadores han manifestado que cuentan con los insumos necesarios para la ejecución del proyecto de Investigación. Por tanto, el no contempla algún tipo de financiamiento para el desarrollo de este estudio.
A18: Se aclara que este documento no constituye la autorización, ni la aprobación del proyecto, o del uso de insumos o recursos humanos de la institución. Además, se informa que una vez que la investigación sea aprobada por un Comité de Ética de Investigación en Seres Humanos autorizado por el Ministerio de Salud Pública, el Investigador principal podrá solicitar los datos de los sujetos de estudio o datos de salud anonimizados o seudonimizado, debiendo adjuntar el protocolo de investigación aprobado y la carta de aprobación emitida por el CEISH.
A26: Quito, | B26: =H4 -> 45699
A32: =""&'Datos de Investigación'!$C$21&""
A33: =""&'Datos de Investigación'!$C$22&""
A35: NOTA: Revisar que el documento esté completo adecuadamente para guardar en PDF.
B37: REGRESAR | G37: =IF(A35="Nota: Revisar que el documento esté completo adecuadamente para guardar en PDF.",HYPERLINK("#"&"'Instrumentos de la invest.'!A1","Pasar al siguiente documento"),"Documentos Investigaciones Sin Riesgo") -> Pasar al siguiente documento

Sheet Instrumentos de la invest.
A1: Instrucciones: Incluir cualquier formulario que sirva para la recolección de información: Entrevistas, encuestas, instrucciones escritas, manuales, guías, entre otros. Pegar aquí la información en cualquier formato.
I2: ='Datos de Investigación'!C5 -> 0
I3: =""&'Datos de Investigación'!$C$7&""
H4: ='Datos de Investigación'!C6 -> 45699
A5: Instrumentos de la Investigación
A28: NOTA: Revisar que el documento esté completo adecuadamente para guardar en PDF.
A30: REGRESAR | D30: =IF(OR(#REF!="",ISBLANK(#REF!),#REF!="",ISBLANK(#REF!),#REF!="",ISBLANK(#REF!)),"Formulario incompleto","") -> #REF! | G30: =IF('Instrumentos de la invest.'!A28="NOTA: Revisar que el documento esté completo adecuadamente para guardar en PDF.",HYPERLINK("#"&"'Solicitud de Evaluación'!A1","Pasar al siguiente documento"),"Documentos Investigaciones Sin Riesgo") -> Pasar al siguiente documento

Sheet Solicitud de Evaluación
A1: Instrucciones: En la siguiente carta completar los campos en color gris, asegurarse que los campos se llenen de acuerdo a los comentarios que se despliegan al dar click en cada campo.
I2: ='Datos de Investigación'!C5 -> 0
I3: =""&'Datos de Investigación'!$C$7&""
G4: ='Datos de Investigación'!C6 -> 45699
A5: Señora, Ximena Garzón MD. PhD. Presidente del Comité de Ética de Investigación en Seres Humanos de la Universidad San Francisco de Quito USFQ (CEISH-USFQ)
A7: De mi mejor consideración:
A9: ="Por medio del presente, yo/nosotros "&'Datos de Investigación'!$C$8&" en calidad de investigador principal, solicito la evaluación de la investigación "&'Datos de Investigación'!$C$17&", que se sustenta en la siguiente documentación:" -> Por medio del presente, yo/nosotros en calidad de investigador principal, solicito la evaluación de la investigación , que se sustenta en la siguiente documentación:
A13: Documentos adjuntos | G13: Idioma Versión | I13: Fecha Doc. | J13: # págs
A14: 1 | B14: Protocolo de investigación
A15: 2 | B15: Formulario(s) de consentimiento informado.
A16: 3 | B16: Consentimiento informado colectivo o Comunitario en castellano y traducido al idioma ancestral (si aplica)
A17: 4 | B17: Instrumentos de la investigación (entrevistas, encuestas, instrucciones escritas, manuales, guías, entre otros).
A18: 5 | B18: Hoja de vida del investigador principal y equipo de investigación.
A19: 6 | B19: Declaración de compromiso de confidencialidad, suscrita por todos los investigadores.
A20: 7 | B20: Declaración de conflictos de interés, suscrita por todos los investigadores.
A21: 8 | B21: Declaración de responsabilidad del investigador principal
A22: 9 | B22: Carta de interés institucional, suscrita por la máxima autoridad del o de los establecimientos de salud o instituciones en las que se ejecutará la investigación (si aplica)
A25: Código HUBI | C25: ='Datos de Investigación'!$C$16 -> 0
A26: Colegio | C26: ='Datos de Investigación'!$C$15 -> 0
A28: Atentamente
A33: =""&'Datos de Investigación'!C8&""
A34: =""&'Datos de Investigación'!$C$14&""
A35: Correo electrónico: | C35: =""&'Datos de Investigación'!$C$13&""
A36: Telf.: | B36: ='Datos de Investigación'!$C$11 -> 0
A37: NOTA: Revisar que el documento esté completo adecuadamente para guardar en PDF.
C39: REGRESAR | G39: =IF('Instrumentos de la invest.'!A28="NOTA: Revisar que el documento esté completo adecuadamente para guardar en PDF.",HYPERLINK("#"&"'Hoja de vida.'!A1","Pasar al siguiente documento"),"Documentos Investigaciones Sin Riesgo") -> Pasar al siguiente documento

Sheet Hoja de vida.
A1: Instrucciones: Llenar una hoja de vida por cada miembro de la investigación, en caso de ser necesarios aumentar mas cuadros. Al momento de imprimir seleccionar la hoja de vida que se desea imprimir, ir a ARCHIVO>> IMPRIMIR>> CONFIGURACIÓN>> IMPRIMIR SELECCIÓN. De esta manera solo se imprimirá la hoja de vida seleccionada.
A5: Modelo Hoja de vida | K5: Modelo Hoja de vida | U5: Modelo Hoja de vida | AE5: Modelo Hoja de vida | AO5: Modelo Hoja de vida
A7: ='Datos de Investigación'!$C$8 -> 0 | K7: =""&Protocolo!$C$54&"" | U7: =""&Protocolo!$C$55&"" | AE7: =""&Protocolo!$C$56&"" | AO7: =""&Protocolo!$C$57&""
A9: DATOS GENERALES | K9: DATOS GENERALES | U9: DATOS GENERALES | AE9: DATOS GENERALES | AO9: DATOS GENERALES
A10: Cédula o pasaporte: | C10: ='Datos de Investigación'!$C$10 -> 0 | K10: Cédula o pasaporte: | M10: =""&Protocolo!$E$54&"" | U10: Cédula o pasaporte: | W10: =""&Protocolo!$E$55&"" | AE10: Cédula o pasaporte: | AG10: =""&Protocolo!$E$56&"" | AO10: Cédula o pasaporte: | AQ10: =""&Protocolo!$E$57&""
A11: Dirección: | C11: ='Datos de Investigación'!$C$12 -> 0 | K11: Dirección: | U11: Dirección: | AE11: Dirección: | AO11: Dirección:
A12: Teléfono: | C12: ='Datos de Investigación'!$C$11 -> 0 | K12: Teléfono: | M12: =""&Protocolo!$J$54&"" | U12: Teléfono: | W12: =""&Protocolo!$J$55&"" | AE12: Teléfono: | AG12: =""&Protocolo!$J$56&"" | AO12: Teléfono: | AQ12: =""&Protocolo!$J$57&""
A13: Correo electrónico: | C13: ='Datos de Investigación'!$C$10 -> 0 | K13: Correo electrónico: | M13: =""&Protocolo!$H$54&"" | U13: Correo electrónico: | W13: =""&Protocolo!$H$55&"" | AE13: Correo electrónico: | AG13: =""&Protocolo!$H$56&"" | AO13: Correo electrónico: | AQ13: =""&Protocolo!$H$57&""
A15: FORMACIÓN ACADÉMICA | K15: FORMACIÓN ACADÉMICA | U15: FORMACIÓN ACADÉMICA | AE15: FORMACIÓN ACADÉMICA | AO15: FORMACIÓN ACADÉMICA
